BEGIN:VCALENDAR
PRODID:-//Einwohnergemeinde Stocken-Höfen//https://www.stocken-hoefen.ch/
VERSION:2.0
METHOD:PUBLISH
BEGIN:VEVENT
DTSTAMP:20260227T090305
DTSTART:20260321T124500
DTEND:20260321T173000
SEQUENCE:0
UID:b6baf24710ceb1d6c8ccaacd1bf8bd24@stocken-hoefen.ch
ORGANIZER:MAILTO:gemeinde@stocken-hoefen.ch
CLASS:PUBLIC
SUMMARY:6. Molotow - Stocken Jass
DESCRIPTION:
LOCATION:HÃ¶fe TrÃ¤ff, Stockhornstrasse 6, HÃ¶fen
END:VEVENT
END:VCALENDAR