BEGIN:VCALENDAR
PRODID:-//Einwohnergemeinde Stocken-Höfen//https://www.stocken-hoefen.ch/
VERSION:2.0
METHOD:PUBLISH
BEGIN:VEVENT
DTSTAMP:20260227T090629
DTSTART;VALUE=DATE:20260316
DTEND;VALUE=DATE:20260327
SEQUENCE:0
UID:0680ca32c67e427f6ad47540d03979ab@stocken-hoefen.ch
ORGANIZER:MAILTO:gemeinde@stocken-hoefen.ch
CLASS:PUBLIC
SUMMARY:Schoggi Hasen giessen
DESCRIPTION:
LOCATION:HÃ¼beli 7, Oberstocken
END:VEVENT
END:VCALENDAR