BEGIN:VCALENDAR
PRODID:-//Einwohnergemeinde Stocken-Höfen//https://www.stocken-hoefen.ch/
VERSION:2.0
METHOD:PUBLISH
BEGIN:VEVENT
DTSTAMP:20260227T090926
DTSTART:20260318T093000
DTEND:20260318T103000
SEQUENCE:0
UID:3d95f3832f98f8f24b52e8eb377577cf@stocken-hoefen.ch
ORGANIZER:MAILTO:gemeinde@stocken-hoefen.ch
CLASS:PUBLIC
SUMMARY:Schnuppermorgen der Spielgruppe Schmetterling
DESCRIPTION:
LOCATION:HÃ¼beli 7, Oberstocken
END:VEVENT
END:VCALENDAR