BEGIN:VCALENDAR
PRODID:-//Einwohnergemeinde Stocken-Höfen//https://www.stocken-hoefen.ch/
VERSION:2.0
METHOD:PUBLISH
BEGIN:VEVENT
DTSTAMP:20260331T151213
DTSTART:20260427T193000
DTEND:20260427T193000
SEQUENCE:0
UID:5d5a09e3a3b012327d1d8e59a5687f6a@stocken-hoefen.ch
ORGANIZER:MAILTO:gemeinde@stocken-hoefen.ch
CLASS:PUBLIC
SUMMARY:Infoabend Fourier/in
DESCRIPTION:Flyer Infoabend Fourier/in\n\n
LOCATION:Feuerwehrmagazin Thierachern
END:VEVENT
END:VCALENDAR