BEGIN:VCALENDAR
PRODID:-//Einwohnergemeinde Stocken-Höfen//https://www.stocken-hoefen.ch/
VERSION:2.0
METHOD:PUBLISH
BEGIN:VEVENT
DTSTAMP:20260401T144854
DTSTART:20260705T084500
DTEND:20260705T180000
SEQUENCE:0
UID:2ad05dbb2149eb9f34da683c6892851c@stocken-hoefen.ch
ORGANIZER:MAILTO:gemeinde@stocken-hoefen.ch
CLASS:PUBLIC
SUMMARY:IronMan
DESCRIPTION:Verkehrsinformationen zum IronMan vom 5. Juli 2026
LOCATION:
END:VEVENT
END:VCALENDAR